Felt | Verdi |
AlreadyApplied | True |
Aperture | 6.3 |
ApertureValue | 6.3 |
Artist | Kaare Westeraas |
BitsPerSample | 8 |
BlueHue | 0 |
BlueSaturation | 0 |
Brightness | +50 |
By-line | Kaare Westeraas |
CameraProfile | Adobe Standard |
ChromaticAberrationB | 0 |
ChromaticAberrationR | 0 |
CircleOfConfusion | 0.019 mm |
Clarity | +25 |
ColorComponents | 3 |
ColorMode | RGB |
ColorNoiseReduction | 10 |
ColorSpace | sRGB |
ColorTemperature | 4950 |
Contrast | +35 |
ConvertToGrayscale | False |
CopyrightFlag | False |
CreateDate (1) | 2011:04:10 17:35:42.61+02:00 |
CreateDate | 2011:04:10 17:35:42 |
Creator | Kaare Westeraas |
CustomRendered | Normal |
DateTimeOriginal (1) | 2011:04:10 16:35:42+02:00 |
DateTimeOriginal | 2011:04:10 16:35:42 |
Defringe | 0 |
ExifImageHeight | 3168 |
ExifImageWidth | 4752 |
Exposure | 0.00 |
ExposureCompensation | -2 |
ExposureMode | Auto |
ExposureProgram | Aperture-priority AE |
ExposureTime | 1/50 |
FillLight | 11 |
Firmware | 1.0.9 |
Flash | Off, Did not fire |
FlashCompensation | 0 |
FlashFired | False |
FlashFunction | False |
FlashMode | Off |
FlashRedEyeMode | False |
FlashReturn | No return detection |
FNumber | 6.3 |
FocalLength | 300.0 mm |
FocalLength35efl | 300.0 mm (35 mm equivalent: 476.3 mm) |
Format | image/jpeg |
FOV | 4.3 deg |
GreenHue | 0 |
GreenSaturation | 0 |
HasCrop | False |
HasSettings | True |
HighlightRecovery | 0 |
HueAdjustmentAqua | 0 |
HueAdjustmentBlue | 0 |
HueAdjustmentGreen | 0 |
HueAdjustmentMagenta | 0 |
HueAdjustmentOrange | 0 |
HueAdjustmentPurple | 0 |
HueAdjustmentRed | 0 |
HueAdjustmentYellow | 0 |
HyperfocalDistance | 754.94 m |
ICCProfileName | sRGB IEC61966-2.1 |
ImageHeight | 3168 |
ImageNumber | 0 |
ImageSize | 4752x3168 |
ImageWidth | 4752 |
ISO | 100 |
Lens | EF100-300mm f/5.6 |
LensInfo | 100-300mm f/? |
LightValue | 11.0 |
LuminanceAdjustmentAqua | 0 |
LuminanceAdjustmentBlue | 0 |
LuminanceAdjustmentGreen | 0 |
LuminanceAdjustmentMagenta | 0 |
LuminanceAdjustmentOrange | 0 |
LuminanceAdjustmentPurple | 0 |
LuminanceAdjustmentRed | 0 |
LuminanceAdjustmentYellow | 0 |
LuminanceSmoothing | 5 |
Make | Canon |
Marked | False |
MaxApertureValue | 6.2 |
Megapixels | 15.1 |
MeteringMode | Spot |
Model | Canon EOS 500D |
ModifyDate (1) | 2012:03:26 19:18:59+02:00 |
ModifyDate | 2012:03:26 19:18:59 |
Orientation | Horizontal (normal) |
OwnerName | Kaare Westeraas |
ParametricDarks | 0 |
ParametricHighlights | 0 |
ParametricHighlightSplit | 75 |
ParametricLights | 0 |
ParametricMidtoneSplit | 50 |
ParametricShadows | 0 |
ParametricShadowSplit | 25 |
PostCropVignetteAmount | 0 |
ProfileDescription | sRGB IEC61966-2.1 |
Rating | 0 |
RawFileName | IMG_5914.CR2 |
RedHue | 0 |
RedSaturation | 0 |
Saturation | +15 |
SaturationAdjustmentAqua | 0 |
SaturationAdjustmentBlue | 0 |
SaturationAdjustmentGreen | 0 |
SaturationAdjustmentMagenta | 0 |
SaturationAdjustmentOrange | 0 |
SaturationAdjustmentPurple | 0 |
SaturationAdjustmentRed | 0 |
SaturationAdjustmentYellow | 0 |
ScaleFactor35efl | 1.6 |
SceneCaptureType | Standard |
SerialNumber | 680127888 |
Shadows | 24 |
ShadowTint | 0 |
SharpenDetail | 40 |
SharpenEdgeMasking | 15 |
SharpenRadius | +0.8 |
Sharpness | 60 |
ShutterSpeed | 1/50 |
ShutterSpeedValue | 1/50 |
SidecarForExtension | CR2 |
Software | Adobe Photoshop Elements 10.0 Macintosh |
SplitToningBalance | 0 |
SplitToningHighlightHue | 0 |
SplitToningHighlightSaturation | 0 |
SplitToningShadowHue | 0 |
SplitToningShadowSaturation | 0 |
Tint | +5 |
ToneCurve | 0, 0, 32, 22, 64, 56, 128, 128, 192, 196, 255, 255 |
ToneCurveName | Medium Contrast |
URL_List | |
Version | 5.5 |
Vibrance | +15 |
VignetteAmount | 0 |
WhiteBalance (2) | As Shot |
WhiteBalance | Auto |