Felt | Verdi |
AlreadyApplied | True |
Aperture | 5.3 |
ApertureValue | 5.3 |
BitsPerSample | 8 |
BlueHue | 0 |
BlueSaturation | 0 |
Brightness | 0 |
CameraProfile | Embedded |
CFAPattern | [Red,Green][Green,Blue] |
ChromaticAberrationB | 0 |
ChromaticAberrationR | 0 |
CircleOfConfusion | 0.020 mm |
Clarity | 0 |
ColorComponents | 3 |
ColorNoiseReduction | 10 |
ColorNoiseReductionDetail | 50 |
Contrast (2) | 0 |
Contrast | Normal |
ConvertToGrayscale | False |
CreateDate (1) | 2012:06:17 10:15:10.95+02:00 |
CreateDate | 2012:06:17 10:15:10 |
CreatorTool | Adobe Photoshop Lightroom |
CropAngle | 0 |
CropBottom | 0.980434 |
CropConstrainToWarp | 0 |
CropHeight | 2018 |
CropLeft | 0.242774 |
CropRight | 1 |
CropTop | 0.271739 |
CropUnit | pixels |
CropWidth | 3247 |
CustomRendered | Normal |
DateTimeDigitized | 2012:06:17 10:15:10.95+02:00 |
DateTimeOriginal (1) | 2012:06:17 10:15:10.95+02:00 |
DateTimeOriginal | 2012:06:17 10:15:10 |
Defringe | 0 |
DigitalZoomRatio | 1 |
DOF | 82.58 m (84.29 - 166.87 m) |
ExifImageHeight | 2018 |
ExifImageWidth | 3247 |
Exposure | 0.00 |
ExposureCompensation | 0 |
ExposureMode | Auto |
ExposureProgram | Shutter speed priority AE |
ExposureTime | 1/1250 |
FillLight | 0 |
Flash | No Flash |
FlashFired | False |
FlashFunction | False |
FlashMode | Unknown |
FlashRedEyeMode | False |
FlashReturn | No return detection |
FNumber | 5.3 |
FocalLength | 190.0 mm |
FocalLength35efl | 190.0 mm (35 mm equivalent: 285.0 mm) |
FocalLengthIn35mmFormat | 285 mm |
FOV | 7.2 deg |
GainControl | None |
GrainAmount | 0 |
GreenHue | 0 |
GreenSaturation | 0 |
HasCrop | True |
HasSettings | True |
HighlightRecovery | 0 |
HueAdjustmentAqua | 0 |
HueAdjustmentBlue | 0 |
HueAdjustmentGreen | 0 |
HueAdjustmentMagenta | 0 |
HueAdjustmentOrange | +11 |
HueAdjustmentPurple | 0 |
HueAdjustmentRed | 0 |
HueAdjustmentYellow | 0 |
HyperfocalDistance | 340.04 m |
ImageHeight | 2018 |
ImageNumber | 81632 |
ImageSize | 3247x2018 |
ImageWidth | 3247 |
IncrementalTemperature | 0 |
IncrementalTint | 0 |
ISO | 250 |
Lens | 150.0-500.0 mm f/5.0-6.3 |
LensID (1) | 206 |
LensID | Sigma 150-500mm F5-6.3 DG OS APO HSM |
LensInfo | 150-500mm f/5-6.3 |
LensManualDistortionAmount | 0 |
LensProfileEnable | 0 |
LensProfileSetup | LensDefaults |
LightSource | Unknown |
LightValue | 13.8 |
LuminanceAdjustmentAqua | 0 |
LuminanceAdjustmentBlue | 0 |
LuminanceAdjustmentGreen | 0 |
LuminanceAdjustmentMagenta | 0 |
LuminanceAdjustmentOrange | +60 |
LuminanceAdjustmentPurple | 0 |
LuminanceAdjustmentRed | 0 |
LuminanceAdjustmentYellow | +33 |
LuminanceNoiseReductionContrast | 0 |
LuminanceNoiseReductionDetail | 50 |
LuminanceSmoothing | 21 |
Make | NIKON CORPORATION |
MaxApertureValue | 5.3 |
Megapixels | 6.6 |
MeteringMode | Multi-segment |
Model | NIKON D300S |
ModifyDate (1) | 2012:06:21 22:29:27+02:00 |
ModifyDate | 2012:06:21 22:29:27 |
ParametricDarks | 0 |
ParametricHighlights | +21 |
ParametricHighlightSplit | 75 |
ParametricLights | 0 |
ParametricMidtoneSplit | 50 |
ParametricShadows | -29 |
ParametricShadowSplit | 25 |
PerspectiveHorizontal | 0 |
PerspectiveRotate | 0.0 |
PerspectiveScale | 100 |
PerspectiveVertical | 0 |
PostCropVignetteAmount | 0 |
ProcessVersion | 5.7 |
ProfileDescription | sRGB IEC61966-2.1 |
RedHue | 0 |
RedSaturation | 0 |
Saturation (2) | 0 |
Saturation | Normal |
SaturationAdjustmentAqua | 0 |
SaturationAdjustmentBlue | 0 |
SaturationAdjustmentGreen | 0 |
SaturationAdjustmentMagenta | 0 |
SaturationAdjustmentOrange | +80 |
SaturationAdjustmentPurple | 0 |
SaturationAdjustmentRed | 0 |
SaturationAdjustmentYellow | +56 |
ScaleFactor35efl | 1.5 |
SceneCaptureType | Standard |
SceneType | Directly photographed |
SensingMethod | One-chip color area |
SerialNumber | 6054506 |
Shadows | 0 |
ShadowTint | 0 |
SharpenDetail | 25 |
SharpenEdgeMasking | 0 |
SharpenRadius | +1.0 |
Sharpness (2) | 0 |
Sharpness | Normal |
ShutterSpeed | 1/1250 |
ShutterSpeedValue | 1/1250 |
Software | Ver.1.01 |
SplitToningBalance | 0 |
SplitToningHighlightHue | 0 |
SplitToningHighlightSaturation | 0 |
SplitToningShadowHue | 0 |
SplitToningShadowSaturation | 0 |
SubjectDistance | 112 m |
SubjectDistanceRange | Unknown |
ToneCurve | 0, 0, 255, 255 |
ToneCurveName | Linear |
Version | 6.1 |
Vibrance | 0 |
VignetteAmount | 0 |
WhiteBalance (2) | As Shot |
WhiteBalance | Auto |