Felt | Verdi |
AlreadyApplied | True |
Aperture | 4.5 |
ApertureValue | 4.5 |
ApproximateFocusDistance | 0.28 |
Artist | *AASMUND SUSORT* |
AutoLateralCA | 0 |
BitsPerSample | 8 |
Blacks2012 | 0 |
BlueHue | 0 |
BlueSaturation | 0 |
By-line | *AASMUND SUSORT* |
CameraProfile | Adobe Standard |
CFAPattern | [Red,Green][Green,Blue] |
CircleOfConfusion | 0.020 mm |
Clarity2012 | +57 |
ColorComponents | 3 |
ColorNoiseReduction | 25 |
ColorNoiseReductionDetail | 50 |
ColorTemperature | 5050 |
Contrast | Normal |
Contrast2012 | +15 |
ConvertToGrayscale | False |
Copyright | AASMUND SUSORT |
CopyrightNotice | AASMUND SUSORT |
CreateDate (1) | 2012:06:20 20:37:27.00 |
CreateDate | 2012:06:20 20:37:27 |
Creator | *AASMUND SUSORT* |
CreatorTool | Adobe Photoshop Lightroom 4.1 (Windows) |
CropAngle | 0 |
CropBottom | 0.975337 |
CropConstrainToWarp | 0 |
CropHeight | 2503 |
CropLeft | 0.022322 |
CropRight | 0.730656 |
CropTop | 0.096413 |
CropUnit | pixels |
CropWidth | 3037 |
CustomRendered | Normal |
DateCreated (1) | 2012:06:20 |
DateCreated | 2012:06:20 20:37:27.00 |
DateTimeOriginal | 2012:06:20 20:37:27 |
DefringeGreenAmount | 0 |
DefringeGreenHueHi | 60 |
DefringeGreenHueLo | 40 |
DefringePurpleAmount | 0 |
DefringePurpleHueHi | 70 |
DefringePurpleHueLo | 30 |
DigitalZoomRatio | 1 |
DOF | 0.002 m (0.279 - 0.281 m) |
Exposure2012 | 0.00 |
ExposureCompensation | 0 |
ExposureMode | Manual |
ExposureProgram | Manual |
ExposureTime | 1/60 |
Flash | On, Return detected |
FNumber | 4.5 |
FocalLength | 70.0 mm |
FocalLength35efl | 70.0 mm (35 mm equivalent: 105.0 mm) |
FocalLengthIn35mmFormat | 105 mm |
Format | image/jpeg |
FOV | 19.5 deg |
GainControl | None |
GrainAmount | 0 |
GreenHue | 0 |
GreenSaturation | 0 |
HasCrop | True |
HasSettings | True |
Highlights2012 | +20 |
HueAdjustmentAqua | 0 |
HueAdjustmentBlue | 0 |
HueAdjustmentGreen | 0 |
HueAdjustmentMagenta | +24 |
HueAdjustmentOrange | 0 |
HueAdjustmentPurple | +20 |
HueAdjustmentRed | -2 |
HueAdjustmentYellow | 0 |
HyperfocalDistance | 54.36 m |
ImageHeight | 2503 |
ImageNumber | 53224 |
ImageSize | 3037x2503 |
ImageWidth | 3037 |
ISO | 200 |
Lens | 17.0-70.0 mm f/2.8-4.5 |
LensID (1) | 127 |
LensID | Sigma 17-70mm F2.8-4.5 DC Macro Asp. IF |
LensInfo | 17-70mm f/2.8-4.5 |
LensManualDistortionAmount | 0 |
LensModel | 17.0-70.0 mm f/2.8-4.5 |
LensProfileEnable | 0 |
LensProfileSetup | LensDefaults |
LightSource | Unknown |
LightValue | 9.2 |
LuminanceAdjustmentAqua | 0 |
LuminanceAdjustmentBlue | 0 |
LuminanceAdjustmentGreen | 0 |
LuminanceAdjustmentMagenta | 0 |
LuminanceAdjustmentOrange | 0 |
LuminanceAdjustmentPurple | 0 |
LuminanceAdjustmentRed | 0 |
LuminanceAdjustmentYellow | 0 |
LuminanceSmoothing | 0 |
Make | NIKON CORPORATION |
MaxApertureValue | 4.4 |
Megapixels | 7.6 |
MeteringMode | Multi-segment |
Model | NIKON D300 |
ModifyDate (1) | 2012:06:28 23:01:15+02:00 |
ModifyDate | 2012:06:28 23:01:15 |
ParametricDarks | -23 |
ParametricHighlights | 0 |
ParametricHighlightSplit | 75 |
ParametricLights | +55 |
ParametricMidtoneSplit | 50 |
ParametricShadows | 0 |
ParametricShadowSplit | 25 |
PerspectiveHorizontal | 0 |
PerspectiveRotate | 0.0 |
PerspectiveScale | 100 |
PerspectiveVertical | 0 |
PostCropVignetteAmount | 0 |
ProcessVersion | 6.7 |
ProfileDescription | sRGB IEC61966-2.1 |
RedHue | 0 |
RedSaturation | 0 |
Rights | AASMUND SUSORT |
Saturation (1) | +7 |
Saturation | Normal |
SaturationAdjustmentAqua | 0 |
SaturationAdjustmentBlue | 0 |
SaturationAdjustmentGreen | 0 |
SaturationAdjustmentMagenta | 0 |
SaturationAdjustmentOrange | 0 |
SaturationAdjustmentPurple | 0 |
SaturationAdjustmentRed | 0 |
SaturationAdjustmentYellow | 0 |
ScaleFactor35efl | 1.5 |
SceneCaptureType | Standard |
SceneType | Directly photographed |
SensingMethod | One-chip color area |
SerialNumber | 4006188 |
Shadows2012 | +10 |
ShadowTint | 0 |
SharpenDetail | 25 |
SharpenEdgeMasking | 0 |
SharpenRadius | +1.0 |
Sharpness (1) | 25 |
Sharpness | Hard |
ShutterSpeed | 1/60 |
ShutterSpeedValue | 1/60 |
Software | Adobe Photoshop Lightroom 4.1 (Windows) |
SplitToningBalance | 0 |
SplitToningHighlightHue | 0 |
SplitToningHighlightSaturation | 1 |
SplitToningShadowHue | 0 |
SplitToningShadowSaturation | 0 |
SubjectDistanceRange | Unknown |
Tint | +17 |
ToneCurveName2012 | Linear |
ToneCurvePV2012 | 0, 0, 255, 255 |
ToneCurvePV2012Blue | 0, 0, 255, 255 |
ToneCurvePV2012Green | 0, 0, 255, 255 |
ToneCurvePV2012Red | 0, 0, 255, 255 |
Version | 7.1 |
Vibrance | +38 |
VignetteAmount | 0 |
WhiteBalance (1) | As Shot |
WhiteBalance | Auto |
Whites2012 | +5 |