Felt | Verdi |
AlreadyApplied | True |
Aperture | 2.5 |
ApertureValue | 2.5 |
ApproximateFocusDistance | 2.37 |
Artist | Chris Eric Bratland |
BitsPerSample | 8 |
BlueHue | 0 |
BlueSaturation | 0 |
Brightness | +50 |
By-line | Chris Eric Bratland |
CameraProfile | Adobe Standard |
CFAPattern | [Red,Green][Green,Blue] |
ChromaticAberrationB | 0 |
ChromaticAberrationR | 0 |
CircleOfConfusion | 0.030 mm |
Clarity | 0 |
ColorComponents | 1 |
ColorMode | RGB |
ColorNoiseReduction | 25 |
ColorNoiseReductionDetail | 50 |
ColorSpace | Uncalibrated |
ColorTemperature | 4800 |
Contrast (1) | +25 |
Contrast | Normal |
ConvertToGrayscale | False |
Copyright | Chris Eric Bratland |
CopyrightNotice | Chris Eric Bratland |
CreateDate (1) | 2012:09:23 15:38:20.50 |
CreateDate | 2012:09:23 15:38:20 |
Creator | Chris Eric Bratland |
CreatorTool | Adobe Photoshop CS5 Windows |
CustomRendered | Normal |
DateCreated (1) | 2012:09:23 |
DateCreated | 2012:09:23 15:38:20.005 |
DateTimeOriginal | 2012:09:23 15:38:20 |
Defringe | 0 |
DigitalZoomRatio | 1 |
DOF | 0.33 m (2.22 - 2.55 m) |
ExifImageHeight | 1195 |
ExifImageWidth | 900 |
Exposure | -1.33 |
ExposureCompensation | 0 |
ExposureMode | Manual |
ExposureProgram | Manual |
ExposureTime | 1/800 |
FillLight | 22 |
Flash | No Flash |
FNumber | 2.5 |
FocalLength | 50.0 mm |
FocalLength35efl | 50.0 mm (35 mm equivalent: 50.0 mm) |
FocalLengthIn35mmFormat | 50 mm |
Format | image/jpeg |
FOV | 39.6 deg |
GainControl | Low gain up |
GrainAmount | 0 |
GreenHue | 0 |
GreenSaturation | 0 |
HasCrop | False |
HasSettings | True |
HighlightRecovery | 99 |
HueAdjustmentAqua | 0 |
HueAdjustmentBlue | 0 |
HueAdjustmentGreen | 0 |
HueAdjustmentMagenta | 0 |
HueAdjustmentOrange | 0 |
HueAdjustmentPurple | 0 |
HueAdjustmentRed | 0 |
HueAdjustmentYellow | 0 |
HyperfocalDistance | 33.28 m |
ICCProfileName | Adobe RGB (1998) |
ImageHeight | 1195 |
ImageNumber | 19334 |
ImageSize | 900x1195 |
ImageWidth | 900 |
ISO | 800 |
Lens | 50.0 mm f/1.4 |
LensID (1) | 222 |
LensID | Sigma 50mm F1.4 EX DG HSM |
LensInfo | 50mm f/1.4 |
LensManualDistortionAmount | 0 |
LensModel | 50.0 mm f/1.4 |
LensProfileEnable | 0 |
LensProfileSetup | LensDefaults |
LightSource | Unknown |
LightValue | 9.3 |
LuminanceAdjustmentAqua | 0 |
LuminanceAdjustmentBlue | 0 |
LuminanceAdjustmentGreen | 0 |
LuminanceAdjustmentMagenta | 0 |
LuminanceAdjustmentOrange | 0 |
LuminanceAdjustmentPurple | 0 |
LuminanceAdjustmentRed | 0 |
LuminanceAdjustmentYellow | 0 |
LuminanceSmoothing | 0 |
Make | NIKON CORPORATION |
MaxApertureValue | 1.4 |
Megapixels | 1.1 |
MeteringMode | Multi-segment |
Model | NIKON D700 |
ModifyDate (1) | 2012:09:25 00:13:13+02:00 |
ModifyDate | 2012:09:25 00:13:13 |
Orientation | Horizontal (normal) |
ParametricDarks | 0 |
ParametricHighlights | 0 |
ParametricHighlightSplit | 75 |
ParametricLights | 0 |
ParametricMidtoneSplit | 50 |
ParametricShadows | 0 |
ParametricShadowSplit | 25 |
PerspectiveHorizontal | 0 |
PerspectiveRotate | 0.0 |
PerspectiveScale | 100 |
PerspectiveVertical | 0 |
PostCropVignetteAmount | 0 |
ProcessVersion | 5.7 |
ProfileDescription | Adobe RGB (1998) |
RedHue | 0 |
RedSaturation | 0 |
Rights | Chris Eric Bratland |
Saturation (1) | 0 |
Saturation | Normal |
SaturationAdjustmentAqua | 0 |
SaturationAdjustmentBlue | 0 |
SaturationAdjustmentGreen | 0 |
SaturationAdjustmentMagenta | 0 |
SaturationAdjustmentOrange | 0 |
SaturationAdjustmentPurple | 0 |
SaturationAdjustmentRed | 0 |
SaturationAdjustmentYellow | 0 |
ScaleFactor35efl | 1.0 |
SceneCaptureType | Standard |
SceneType | Directly photographed |
SensingMethod | One-chip color area |
SerialNumber | 2013959 |
Shadows | 2 |
ShadowTint | 0 |
SharpenDetail | 25 |
SharpenEdgeMasking | 0 |
SharpenRadius | +1.0 |
Sharpness (1) | 25 |
Sharpness | Normal |
ShutterSpeed | 1/800 |
ShutterSpeedValue | 1/800 |
Software | Adobe Photoshop CS5 Windows |
SplitToningBalance | 0 |
SplitToningHighlightHue | 0 |
SplitToningHighlightSaturation | 0 |
SplitToningShadowHue | 0 |
SplitToningShadowSaturation | 0 |
SubjectDistance | 2.37 m |
SubjectDistanceRange | Unknown |
Tint | -5 |
ToneCurve | 0, 0, 32, 22, 64, 56, 128, 128, 192, 196, 255, 255 |
ToneCurveName | Medium Contrast |
URL_List | |
Version | 6.4.1 |
Vibrance | 0 |
VignetteAmount | 0 |
WhiteBalance (1) | As Shot |
WhiteBalance | Manual |