Felt | Verdi |
ActiveD-Lighting | Auto |
AFAperture | 5.7 |
AFAreaMode | Auto-area |
AFInfo2Version | 0100 |
AFPointsUsed | Center, Lower-left |
AlreadyApplied | False |
Aperture | 5.6 |
ApertureValue | 5.6 |
ApproximateFocusDistance | 5.31 |
AutoDistortionControl | Off |
AutoFocus | On |
AutoLateralCA | 0 |
BitsPerSample | 8 |
Blacks2012 | -39 |
BlueBalance | 1.152344 |
BlueHue | 0 |
BlueSaturation | 0 |
Brightness (1) | Normal |
Brightness | 0 |
CameraProfile | Embedded |
CFAPattern | [Green,Blue][Red,Green] |
CircleOfConfusion | 0.020 mm |
Clarity | 0 |
Clarity2012 | 0 |
ColorComponents | 3 |
ColorNoiseReduction | 0 |
ColorSpace | sRGB |
CompressedBitsPerPixel | 2 |
Contrast (2) | 0 |
Contrast | Normal |
Contrast2012 | +40 |
ContrastDetectAF | Off |
ContrastDetectAFInFocus | No |
ConvertToGrayscale | False |
CreateDate (1) | 2012:10:16 18:18:48.20 |
CreateDate | 2012:10:16 18:18:48 |
CreatorTool | Ver.1.01 |
CropHiSpeed | Off (4672x3084 cropped to 4672x3084 at pixel 0,0) |
CustomRendered | Normal |
DateCreated (1) | 2012:10:16 |
DateCreated | 2012:10:16 18:18:48.20 |
DateDisplayFormat | D/M/Y |
DateStampMode | Off |
DateTimeOriginal | 2012:10:16 18:18:48 |
DaylightSavings | Yes |
Defringe | 0 |
DigitalZoomRatio | 1 |
DOF | 0.65 m (5.00 - 5.65 m) |
EffectiveMaxAperture | 5.7 |
ExifImageHeight | 3072 |
ExifImageWidth | 4608 |
ExitPupilPosition | 113.8 mm |
Exposure | 0.00 |
Exposure2012 | +0.15 |
ExposureCompensation | 0 |
ExposureDifference | 0 |
ExposureMode | Auto |
ExposureProgram | Program AE |
ExposureTime | 1/5 |
ExposureTuning | 0 |
ExternalFlashCompensation | 0 |
ExternalFlashExposureComp | 0 |
ExternalFlashFirmware | n/a |
ExternalFlashFlags | (none) |
FileInfoVersion | 0100 |
FileNumber | 0035 |
FillLight | 0 |
FilterEffect | n/a |
FirmwareVersion | 1.01b |
Flash | No Flash |
FlashColorFilter | None |
FlashCommanderMode | Off |
FlashCompensation | 0 |
FlashControlMode | Off |
FlashExposureBracketValue | 0.0 |
FlashExposureComp | 0 |
FlashExposureComp3 | 0 |
FlashExposureComp4 | 0 |
FlashGNDistance | 0 |
FlashGroupACompensation | 0 |
FlashGroupAControlMode | Off |
FlashGroupBCompensation | 0 |
FlashGroupBControlMode | Off |
FlashGroupCCompensation | 0 |
FlashGroupCControlMode | Off |
FlashInfoVersion | 0104 |
FlashMode | Did Not Fire |
FlashSetting | Normal |
FlashSource | None |
FlashType | |
FNumber | 5.6 |
FocalLength (1) | 97.9 mm |
FocalLength | 98.0 mm |
FocalLength35efl | 98.0 mm (35 mm equivalent: 147.0 mm) |
FocalLengthIn35mmFormat | 147 mm |
FocusDistance | 5.31 m |
FocusMode | AF-A |
FocusPosition | 0x95 |
Format | image/jpeg |
FOV | 13.7 deg (1.28 m) |
GainControl | High gain up |
GPSVersionID | 2.2.0.0 |
GrainAmount | 0 |
GreenHue | 0 |
GreenSaturation | 0 |
HasCrop | False |
HasSettings | True |
HighISONoiseReduction | Normal |
HighlightRecovery | 0 |
Highlights2012 | -63 |
HueAdjustment | None |
HueAdjustmentAqua | 0 |
HueAdjustmentBlue | 0 |
HueAdjustmentGreen | 0 |
HueAdjustmentMagenta | 0 |
HueAdjustmentOrange | 0 |
HueAdjustmentPurple | 0 |
HueAdjustmentRed | 0 |
HueAdjustmentYellow | 0 |
HyperfocalDistance | 85.62 m |
ImageBoundary | 0 0 4608 3072 |
ImageDataSize | 3616447 |
ImageHeight | 3072 |
ImageNumber | 2677 |
ImageSize | 4608x3072 |
ImageWidth | 4608 |
IncrementalTemperature | +38 |
IncrementalTint | +2 |
ISO | 3200 |
ISO2 | 3200 |
ISOExpansion | Off |
ISOExpansion2 | Off |
ISOSetting | 3200 |
Lens (1) | 18-200mm f/3.5-6.3 |
Lens | 18.0-200.0 mm f/3.5-6.3 |
LensDataVersion | 0204 |
LensFStops | 5.33 |
LensID (1) | 237 |
LensID | Sigma 18-200mm F3.5-6.3 DC OS HSM |
LensIDNumber | 237 |
LensInfo | 18-200mm f/3.5-6.3 |
LensManualDistortionAmount | 0 |
LensProfileEnable | 0 |
LensProfileSetup | LensDefaults |
LensSpec | 18-200mm f/3.5-6.3 G VR |
LensType | G VR |
LightSource | Unknown |
LightValue | 2.3 |
LuminanceAdjustmentAqua | 0 |
LuminanceAdjustmentBlue | 0 |
LuminanceAdjustmentGreen | 0 |
LuminanceAdjustmentMagenta | 0 |
LuminanceAdjustmentOrange | 0 |
LuminanceAdjustmentPurple | 0 |
LuminanceAdjustmentRed | 0 |
LuminanceAdjustmentYellow | 0 |
LuminanceSmoothing | 0 |
Make | NIKON CORPORATION |
MakerNoteVersion | 2.10 |
MaxApertureAtMaxFocal | 6.3 |
MaxApertureAtMinFocal | 3.6 |
MaxApertureValue | 5.7 |
MaxFocalLength | 201.6 mm |
MCUVersion | 75 |
Megapixels | 14.2 |
MemoryCardNumber | 0 |
MeteringMode | Multi-segment |
MinFocalLength | 18.3 mm |
Model | NIKON D3100 |
ModifyDate (1) | 2012:10:16 18:18:48.20 |
ModifyDate | 2012:10:16 18:18:48 |
MultiExposureAutoGain | Off |
MultiExposureMode | Off |
MultiExposureShots | 0 |
MultiExposureVersion | 0100 |
NoiseReduction | Off |
Orientation | Horizontal (normal) |
ParametricDarks | 0 |
ParametricHighlights | 0 |
ParametricHighlightSplit | 75 |
ParametricLights | 0 |
ParametricMidtoneSplit | 50 |
ParametricShadows | 0 |
ParametricShadowSplit | 25 |
PerspectiveHorizontal | 0 |
PerspectiveRotate | 0.0 |
PerspectiveScale | 100 |
PerspectiveVertical | 0 |
PhaseDetectAF | On (11-point) |
PictureControlAdjust | Default Settings |
PictureControlBase | Standard |
PictureControlName | Standard |
PictureControlQuickAdjust | Normal |
PictureControlVersion | 0100 |
PostCropVignetteAmount | 0 |
PowerUpTime | 2012:10:16 18:04:00 |
PrimaryAFPoint | Center |
ProcessVersion | 6.7 |
ProgramShift | +1/3 |
Quality | Normal |
Rating | 1 |
RawFileName | DSC_0035.JPG |
RedBalance | 2.25 |
RedHue | 0 |
RedSaturation | 0 |
Saturation (2) | 0 |
Saturation | Normal |
SaturationAdjustmentAqua | 0 |
SaturationAdjustmentBlue | 0 |
SaturationAdjustmentGreen | 0 |
SaturationAdjustmentMagenta | 0 |
SaturationAdjustmentOrange | 0 |
SaturationAdjustmentPurple | 0 |
SaturationAdjustmentRed | 0 |
SaturationAdjustmentYellow | 0 |
ScaleFactor35efl | 1.5 |
SceneCaptureType | Standard |
SceneType | Directly photographed |
SensingMethod | One-chip color area |
SerialNumber | 6684541 |
Shadows | 0 |
Shadows2012 | -38 |
ShadowTint | 0 |
SharpenDetail | 25 |
SharpenEdgeMasking | 0 |
SharpenRadius | +1.0 |
Sharpness (1) | 3 |
Sharpness (2) | 0 |
Sharpness | Normal |
ShootingMode | Single-Frame |
ShotInfoVersion | 0219 |
ShutterCount | 2677 |
ShutterSpeed | 1/5 |
ShutterSpeedValue | 1/5 |
Software | Ver.1.01 |
SplitToningBalance | 0 |
SplitToningHighlightHue | 0 |
SplitToningHighlightSaturation | 0 |
SplitToningShadowHue | 0 |
SplitToningShadowSaturation | 0 |
SubjectDistanceRange | Unknown |
TimeZone | +01:00 |
ToneCurve | 0, 0, 255, 255 |
ToneCurveBlue | 0, 0, 255, 255 |
ToneCurveGreen | 0, 0, 255, 255 |
ToneCurveName | Linear |
ToneCurveName2012 | Linear |
ToneCurvePV2012 | 0, 0, 255, 255 |
ToneCurvePV2012Blue | 0, 0, 255, 255 |
ToneCurvePV2012Green | 0, 0, 255, 255 |
ToneCurvePV2012Red | 0, 0, 255, 255 |
ToneCurveRed | 0, 0, 255, 255 |
ToningEffect | n/a |
ToningSaturation | n/a |
VariProgram | |
Version | 7.0 |
Vibrance | 0 |
VibrationReduction | On |
VignetteAmount | 0 |
VRInfoVersion | 0100 |
VRMode | Normal |
WB_GRBGLevels | 256 576 295 256 |
WB_RBLevels | 2.25 1.15234375 1 1 |
WhiteBalance (2) | Custom |
WhiteBalance | Auto |
WhiteBalanceFineTune | 0 0 |
Whites2012 | -28 |