Felt | Verdi |
AlreadyApplied | True |
Aperture | 6.3 |
ApertureValue | 6.3 |
AutoLateralCA | 0 |
BitsPerSample | 8 |
Blacks2012 | +25 |
BlueHue | -5 |
BlueSaturation | 0 |
Brightness | 0 |
CameraProfile | Kodak Portra 160 NC C |
CircleOfConfusion | 0.019 mm |
Clarity | 0 |
Clarity2012 | 0 |
ColorComponents | 3 |
ColorNoiseReduction | 0 |
Contrast | 0 |
Contrast2012 | 0 |
ConvertToGrayscale | False |
CreateDate | 2012:12:02 11:49:33 |
CreatorTool | Adobe Photoshop Lightroom 4.0 (Macintosh) |
CustomRendered | Normal |
DateCreated (1) | 2012:12:02 |
DateCreated | 2012:12:02 11:49:33.096 |
DateTimeOriginal | 2012:12:02 11:49:33 |
Defringe | 0 |
Exposure | 0.00 |
Exposure2012 | 0.00 |
ExposureCompensation | 0 |
ExposureMode | Manual |
ExposureProgram | Manual |
ExposureTime | 1/200 |
FillLight | 0 |
Firmware | 1.0.5 |
Flash | Off, Did not fire |
FlashCompensation | 0 |
FNumber | 6.3 |
FocalLength | 50.0 mm |
FocalLength35efl | 50.0 mm (35 mm equivalent: 78.6 mm) |
Format | image/jpeg |
FOV | 25.8 deg |
GrainAmount | 15 |
GrainFrequency | 40 |
GrainSize | 25 |
GreenHue | 0 |
GreenSaturation | 0 |
HasCrop | False |
HasSettings | True |
HighlightRecovery | 0 |
Highlights2012 | -20 |
HueAdjustmentAqua | 0 |
HueAdjustmentBlue | 0 |
HueAdjustmentGreen | +30 |
HueAdjustmentMagenta | +40 |
HueAdjustmentOrange | 0 |
HueAdjustmentPurple | +15 |
HueAdjustmentRed | +20 |
HueAdjustmentYellow | +15 |
HyperfocalDistance | 20.77 m |
ImageHeight | 1000 |
ImageNumber | 0 |
ImageSize | 1000x1000 |
ImageWidth | 1000 |
IncrementalTemperature | +26 |
IncrementalTint | +12 |
ISO | 200 |
Lens | EF50mm f/1.4 USM |
LensID (1) | 198 |
LensID | Canon EF 50mm f/1.4 USM |
LensInfo | 50mm f/? |
LensManualDistortionAmount | 0 |
LensModel | EF50mm f/1.4 USM |
LensProfileEnable | 0 |
LensProfileSetup | LensDefaults |
LensSerialNumber | 0000000000 |
LightValue | 12.0 |
LuminanceAdjustmentAqua | 0 |
LuminanceAdjustmentBlue | -10 |
LuminanceAdjustmentGreen | -10 |
LuminanceAdjustmentMagenta | 0 |
LuminanceAdjustmentOrange | -8 |
LuminanceAdjustmentPurple | +8 |
LuminanceAdjustmentRed | -15 |
LuminanceAdjustmentYellow | 0 |
LuminanceSmoothing | 0 |
Make | Canon |
MaxApertureValue | 1.4 |
Megapixels | 1.0 |
MeteringMode | Spot |
Model | Canon EOS 60D |
ModifyDate (1) | 2013:02:21 23:36:14+01:00 |
ModifyDate | 2013:02:21 23:36:14 |
ParametricDarks | 0 |
ParametricHighlights | 0 |
ParametricHighlightSplit | 75 |
ParametricLights | 0 |
ParametricMidtoneSplit | 50 |
ParametricShadows | 0 |
ParametricShadowSplit | 25 |
PerspectiveHorizontal | 0 |
PerspectiveRotate | 0.0 |
PerspectiveScale | 100 |
PerspectiveVertical | 0 |
PostCropVignetteAmount | 0 |
ProcessVersion | 6.7 |
ProfileDescription | sRGB IEC61966-2.1 |
RecommendedExposureIndex | 200 |
RedHue | +10 |
RedSaturation | 0 |
Saturation | -5 |
SaturationAdjustmentAqua | -40 |
SaturationAdjustmentBlue | -20 |
SaturationAdjustmentGreen | -50 |
SaturationAdjustmentMagenta | -30 |
SaturationAdjustmentOrange | -10 |
SaturationAdjustmentPurple | -40 |
SaturationAdjustmentRed | -15 |
SaturationAdjustmentYellow | -5 |
ScaleFactor35efl | 1.6 |
SceneCaptureType | Standard |
SensitivityType | Recommended Exposure Index |
SerialNumber | 0480250859 |
Shadows | 0 |
Shadows2012 | +20 |
ShadowTint | 0 |
SharpenDetail | 25 |
SharpenEdgeMasking | 0 |
SharpenRadius | +1.0 |
Sharpness | 25 |
ShutterSpeed | 1/200 |
ShutterSpeedValue | 1/200 |
Software | Adobe Photoshop Lightroom 4.0 (Macintosh) |
SplitToningBalance | 0 |
SplitToningHighlightHue | 0 |
SplitToningHighlightSaturation | 0 |
SplitToningShadowHue | 0 |
SplitToningShadowSaturation | 0 |
ToneCurve | 0, 0, 255, 255 |
ToneCurveBlue | 0, 0, 255, 255 |
ToneCurveGreen | 0, 0, 255, 255 |
ToneCurveName | Linear |
ToneCurveName2012 | Custom |
ToneCurvePV2012 | 0, 8, 255, 249 |
ToneCurvePV2012Blue | 0, 0, 46, 35, 130, 130, 175, 183, 255, 255 |
ToneCurvePV2012Green | 0, 0, 45, 35, 130, 130, 178, 183, 255, 255 |
ToneCurvePV2012Red | 0, 0, 48, 34, 130, 130, 176, 183, 255, 255 |
ToneCurveRed | 0, 0, 255, 255 |
Transformation | Perspective |
Version | 7.0 |
Vibrance | 0 |
VignetteAmount | 0 |
VirtualFocalLength | 2.948995 |
VirtualImageXCenter | 0.485024 |
VirtualImageYCenter | 0.311736 |
WhiteBalance (1) | Custom |
WhiteBalance | Auto |
Whites2012 | -10 |