Felt | Verdi |
AlreadyApplied | True |
Aperture | 8.0 |
ApertureValue | 8.0 |
AutoLateralCA | 1 |
BitsPerSample | 8 |
Blacks2012 | -31 |
BlueHue | 0 |
BlueSaturation | 0 |
BrightnessValue | 7.23 |
CameraProfile | Embedded |
CircleOfConfusion | 0.020 mm |
Clarity2012 | +88 |
ColorComponents | 1 |
ColorNoiseReduction | 0 |
Contrast2012 | +21 |
ConvertToGrayscale | True |
CreateDate | 2013:01:02 11:17:29 |
CreatorTool | Adobe Photoshop Lightroom 4.3 (Windows) |
CustomRendered | Normal |
DateCreated (1) | 2013:01:02 |
DateCreated | 2013:01:02 11:17:29 |
DateTimeOriginal | 2013:01:02 11:17:29 |
Exposure2012 | +0.60 |
ExposureCompensation | 0 |
ExposureMode | Manual |
ExposureProgram | Manual |
ExposureTime | 1/250 |
Flash | Off, Did not fire |
FNumber | 8.0 |
FocalLength | 23.0 mm |
FocalLength35efl | 23.0 mm (35 mm equivalent: 35.2 mm) |
Format | image/jpeg |
FOV | 54.2 deg |
GradientBasedCorrActive | true |
GradientBasedCorrAmount | 1.000000 |
GradientBasedCorrBrightness | 0.000000 |
GradientBasedCorrClarity2012 (1) | 0.517240 |
GradientBasedCorrClarity2012 | 0.000000 |
GradientBasedCorrContrast2012 (1) | 0.149430 |
GradientBasedCorrContrast2012 | 0.000000 |
GradientBasedCorrDefringe | 0.000000 |
GradientBasedCorrExposure2012 (1) | 0.149500 |
GradientBasedCorrExposure2012 | 0.000000 |
GradientBasedCorrHighlights2012 (1) | -0.632180 |
GradientBasedCorrHighlights2012 | -0.701150 |
GradientBasedCorrHue | 240.000000 |
GradientBasedCorrLuminanceNoise (1) | 0.471260 |
GradientBasedCorrLuminanceNoise | 0.000000 |
GradientBasedCorrMaskFullX (1) | 0.466523 |
GradientBasedCorrMaskFullX | 0.502160 |
GradientBasedCorrMaskFullY (1) | 0.009756 |
GradientBasedCorrMaskFullY | 0.099187 |
GradientBasedCorrMaskValue | 1.000000 |
GradientBasedCorrMaskWhat | Mask/Gradient |
GradientBasedCorrMaskZeroX (1) | 0.468683 |
GradientBasedCorrMaskZeroX | 0.510799 |
GradientBasedCorrMaskZeroY (1) | 1.123580 |
GradientBasedCorrMaskZeroY | 0.773984 |
GradientBasedCorrMoire | 0.000000 |
GradientBasedCorrSaturation (1) | 0.218390 |
GradientBasedCorrSaturation | 0.000000 |
GradientBasedCorrShadows2012 (1) | 0.632180 |
GradientBasedCorrShadows2012 | 0.000000 |
GradientBasedCorrSharpness (1) | 0.448280 |
GradientBasedCorrSharpness | 0.000000 |
GradientBasedCorrTemperature | 0.000000 |
GradientBasedCorrTint | 0.000000 |
GradientBasedCorrWhat | Correction |
GrainAmount | 0 |
GrayMixerAqua | -19 |
GrayMixerBlue | +5 |
GrayMixerGreen | -23 |
GrayMixerMagenta | +5 |
GrayMixerOrange | -14 |
GrayMixerPurple | +12 |
GrayMixerRed | -6 |
GrayMixerYellow | -17 |
GreenHue | 0 |
GreenSaturation | 0 |
HasCrop | False |
HasSettings | True |
Highlights2012 | -100 |
HyperfocalDistance | 3.37 m |
ImageHeight | 2848 |
ImageSize | 4288x2848 |
ImageWidth | 4288 |
IncrementalTemperature | +50 |
IncrementalTint | +12 |
ISO | 200 |
LensManualDistortionAmount | 0 |
LensProfileEnable | 0 |
LensProfileSetup | LensDefaults |
LightSource | Unknown |
LightValue | 13.0 |
LuminanceNoiseReductionContrast | 0 |
LuminanceNoiseReductionDetail | 100 |
LuminanceSmoothing | 33 |
Make | FUJIFILM |
MaxApertureValue | 2.0 |
Megapixels | 12.2 |
MeteringMode | Multi-segment |
Model | FinePix X100 |
ModifyDate (1) | 2013:01:02 21:47:38+01:00 |
ModifyDate | 2013:01:02 21:47:38 |
PaintCorrectionActive | true |
PaintCorrectionAmount | 1.000000 |
PaintCorrectionBrightness | 0.000000 |
PaintCorrectionClarity2012 | 0.000000 |
PaintCorrectionContrast2012 | 0.000000 |
PaintCorrectionDefringe | 0.000000 |
PaintCorrectionExposure2012 | 0.000000 |
PaintCorrectionHighlights2012 | 0.000000 |
PaintCorrectionHue | 240.000000 |
PaintCorrectionLuminanceNoise | 0.000000 |
PaintCorrectionMaskCenterWeight | 0.095982 |
PaintCorrectionMaskFlow | 1.000000 |
PaintCorrectionMaskRadius | 0.122607 |
PaintCorrectionMaskValue | 0.537000 |
PaintCorrectionMaskWhat | Mask/Paint |
PaintCorrectionMoire | 0.000000 |
PaintCorrectionSaturation | 0.000000 |
PaintCorrectionShadows2012 | 0.678160 |
PaintCorrectionSharpness | 0.000000 |
PaintCorrectionTemperature | 0.000000 |
PaintCorrectionTint | 0.000000 |
PaintCorrectionWhat | Correction |
ParametricDarks | 0 |
ParametricHighlights | 0 |
ParametricHighlightSplit | 75 |
ParametricLights | 0 |
ParametricMidtoneSplit | 50 |
ParametricShadows | 0 |
ParametricShadowSplit | 25 |
PerspectiveHorizontal | 0 |
PerspectiveRotate | 0.0 |
PerspectiveScale | 100 |
PerspectiveVertical | 0 |
PostCropVignetteAmount | 0 |
ProcessVersion | 6.7 |
ProfileDescription | sRGB IEC61966-2.1 |
RedHue | 0 |
RedSaturation | 0 |
ScaleFactor35efl | 1.5 |
SceneCaptureType | Standard |
SceneType | Directly photographed |
SensingMethod | One-chip color area |
SensitivityType | Standard Output Sensitivity |
Shadows2012 | +93 |
ShadowTint | 0 |
SharpenDetail | 25 |
SharpenEdgeMasking | 0 |
SharpenRadius | +1.0 |
Sharpness | 52 |
ShutterSpeed | 1/250 |
ShutterSpeedValue | 1/250 |
Software | Adobe Photoshop Lightroom 4.3 (Windows) |
SplitToningBalance | 0 |
SplitToningHighlightHue | 0 |
SplitToningHighlightSaturation | 0 |
SplitToningShadowHue | 0 |
SplitToningShadowSaturation | 0 |
SubjectDistanceRange | Unknown |
ToneCurveName2012 | Linear |
ToneCurvePV2012 | 0, 0, 255, 255 |
ToneCurvePV2012Blue | 0, 0, 255, 255 |
ToneCurvePV2012Green | 0, 0, 255, 255 |
ToneCurvePV2012Red | 0, 0, 255, 255 |
Version | 7.3 |
VignetteAmount | 0 |
WhiteBalance | Auto |
Whites2012 | 0 |