Felt | Verdi |
AlreadyApplied | True |
Aperture | 2.8 |
ApertureValue | 2.8 |
ApproximateFocusDistance | 4294967295 |
Artist | Zoltan Tot |
AutoLateralCA | 0 |
AutoWhiteVersion | 134348800 |
BitsPerSample | 8 |
Blacks2012 | -19 |
BlueHue | 0 |
BlueSaturation | 0 |
By-line | Zoltan Tot |
CameraProfile | Adobe Standard |
CFAPattern | [Red,Green][Green,Blue] |
CircleOfConfusion | 0.030 mm |
Clarity2012 | +41 |
ColorComponents | 3 |
ColorMode | RGB |
ColorNoiseReduction | 25 |
ColorNoiseReductionDetail | 50 |
ColorNoiseReductionSmoothness | 50 |
ColorSpace | Uncalibrated |
ColorTemperature | 4800 |
Contrast | Normal |
Contrast2012 | +23 |
ConvertToGrayscale | False |
Copyright | Zoltan ToT |
CopyrightNotice | Zoltan ToT |
CreateDate | 2013:11:07 22:13:57 |
Creator | Zoltan Tot |
CreatorTool | Ver.1.01 |
CropAngle | 0.403485 |
CropBottom | 0.938159 |
CropConstrainToWarp | 1 |
CropLeft | 0.007546 |
CropRight | 0.992745 |
CropTop | 0 |
CustomRendered | Custom |
DateCreated (1) | 2013:11:07 |
DateCreated | 2013:11:07 22:13:57.009 |
DateTimeOriginal | 2013:11:07 22:13:57 |
DefringeGreenAmount | 0 |
DefringeGreenHueHi | 60 |
DefringeGreenHueLo | 40 |
DefringePurpleAmount | 0 |
DefringePurpleHueHi | 70 |
DefringePurpleHueLo | 30 |
DigitalZoomRatio | 1 |
DOF | inf (2.33 m - inf) |
ExifImageHeight | 1878 |
ExifImageWidth | 3000 |
Exposure2012 | +3.00 |
ExposureCompensation | 0 |
ExposureMode | Manual |
ExposureProgram | Manual |
ExposureTime | 6 |
Flash | Off, Did not fire |
FNumber | 2.8 |
FocalLength | 14.0 mm |
FocalLength35efl | 14.0 mm (35 mm equivalent: 14.0 mm) |
FocalLengthIn35mmFormat | 14 mm |
Format | image/jpeg |
FOV | 104.3 deg |
GainControl | High gain up |
GradientBasedCorrActive | true |
GradientBasedCorrAmount | 1.000000 |
GradientBasedCorrBrightness | 0.000000 |
GradientBasedCorrClarity | 0.000000 |
GradientBasedCorrClarity2012 | 0.480000 |
GradientBasedCorrContrast | 0.000000 |
GradientBasedCorrContrast2012 | 0.450000 |
GradientBasedCorrDefringe | 0.000000 |
GradientBasedCorrExposure | 0.000000 |
GradientBasedCorrExposure2012 | -0.225000 |
GradientBasedCorrHighlights2012 | -1.000000 |
GradientBasedCorrHue | 307.000000 |
GradientBasedCorrLuminanceNoise | 0.590000 |
GradientBasedCorrMaskFullX | 0.998081 |
GradientBasedCorrMaskFullY | 0.939815 |
GradientBasedCorrMaskValue | 1.000000 |
GradientBasedCorrMaskWhat | Mask/Gradient |
GradientBasedCorrMaskZeroX | 0.879437 |
GradientBasedCorrMaskZeroY | 0.489077 |
GradientBasedCorrMoire | 0.000000 |
GradientBasedCorrSaturation (1) | -0.070000 |
GradientBasedCorrSaturation | 0.000000 |
GradientBasedCorrShadows2012 | -0.620000 |
GradientBasedCorrSharpness | -0.040000 |
GradientBasedCorrTemperature | 0.070000 |
GradientBasedCorrTint | -0.090000 |
GradientBasedCorrWhat | Correction |
GrainAmount | 0 |
GreenHue | 0 |
GreenSaturation | 0 |
HasCrop | True |
HasSettings | True |
Highlights2012 | -64 |
HueAdjustmentAqua | 0 |
HueAdjustmentBlue | 0 |
HueAdjustmentGreen | 0 |
HueAdjustmentMagenta | 0 |
HueAdjustmentOrange | 0 |
HueAdjustmentPurple | 0 |
HueAdjustmentRed | 0 |
HueAdjustmentYellow | 0 |
HyperfocalDistance | 2.33 m |
ICCProfileName | Adobe RGB (1998) |
ImageHeight | 1878 |
ImageNumber | 3621 |
ImageSize | 3000x1878 |
ImageWidth | 3000 |
ISO | 1000 |
Lens | 14.0 mm f/2.8 |
LensID (1) | 74 |
LensID | Samyang AE 14mm f/2.8 ED AS IF UMC |
LensInfo | 14mm f/2.8-1.4 |
LensManualDistortionAmount | 0 |
LensModel | 14.0 mm f/2.8 |
LensProfileEnable | 0 |
LensProfileSetup | LensDefaults |
LightSource | Shade |
LightValue | -2.9 |
LuminanceAdjustmentAqua | 0 |
LuminanceAdjustmentBlue | 0 |
LuminanceAdjustmentGreen | 0 |
LuminanceAdjustmentMagenta | 0 |
LuminanceAdjustmentOrange | 0 |
LuminanceAdjustmentPurple | 0 |
LuminanceAdjustmentRed | 0 |
LuminanceAdjustmentYellow | 0 |
LuminanceNoiseReductionContrast | 0 |
LuminanceNoiseReductionDetail | 10 |
LuminanceSmoothing | 40 |
Make | NIKON CORPORATION |
MaxApertureValue | 2.8 |
Megapixels | 5.6 |
MeteringMode | Multi-segment |
Model | NIKON D600 |
ModifyDate (1) | 2013:11:09 21:23:12+01:00 |
ModifyDate | 2013:11:09 21:23:12 |
Orientation | Horizontal (normal) |
PaintCorrectionActive | true |
PaintCorrectionAmount | 1.000000 |
PaintCorrectionBrightness | 0.000000 |
PaintCorrectionClarity | 0.000000 |
PaintCorrectionClarity2012 (1) | 0.300000 |
PaintCorrectionClarity2012 (2) | -0.040000 |
PaintCorrectionClarity2012 | 0.480000 |
PaintCorrectionContrast | 0.000000 |
PaintCorrectionContrast2012 (2) | 0.180000 |
PaintCorrectionContrast2012 | 0.450000 |
PaintCorrectionDefringe | 0.000000 |
PaintCorrectionExposure | 0.000000 |
PaintCorrectionExposure2012 (1) | -0.125000 |
PaintCorrectionExposure2012 (2) | 0.150000 |
PaintCorrectionExposure2012 | -0.175000 |
PaintCorrectionHighlights2012 | -0.750000 |
PaintCorrectionHue | 307.000000 |
PaintCorrectionLuminanceNoise | 0.590000 |
PaintCorrectionMaskCenterWeight (4) | 0.100966 |
PaintCorrectionMaskCenterWeight | 0.049246 |
PaintCorrectionMaskFlow | 0.888889 |
PaintCorrectionMaskRadius (1) | 0.407387 |
PaintCorrectionMaskRadius (3) | 0.289800 |
PaintCorrectionMaskRadius (4) | 0.088650 |
PaintCorrectionMaskRadius | 0.160455 |
PaintCorrectionMaskValue (6) | 0.000000 |
PaintCorrectionMaskValue | 1.000000 |
PaintCorrectionMaskWhat | Mask/Paint |
PaintCorrectionMoire | 0.000000 |
PaintCorrectionSaturation (1) | 0.570000 |
PaintCorrectionSaturation (3) | -0.140000 |
PaintCorrectionSaturation (5) | -0.530000 |
PaintCorrectionSaturation | 0.000000 |
PaintCorrectionShadows2012 (1) | 0.010000 |
PaintCorrectionShadows2012 (2) | 0.150000 |
PaintCorrectionShadows2012 | -0.570000 |
PaintCorrectionSharpness (1) | 0.990000 |
PaintCorrectionSharpness (2) | -0.470000 |
PaintCorrectionSharpness | -0.040000 |
PaintCorrectionTemperature (1) | -0.040000 |
PaintCorrectionTemperature (2) | -0.250000 |
PaintCorrectionTemperature | 0.300000 |
PaintCorrectionTint | -0.090000 |
PaintCorrectionWhat | Correction |
ParametricDarks | 0 |
ParametricHighlights | 0 |
ParametricHighlightSplit | 75 |
ParametricLights | 0 |
ParametricMidtoneSplit | 50 |
ParametricShadows | 0 |
ParametricShadowSplit | 25 |
PerspectiveAspect | 0 |
PerspectiveHorizontal | 0 |
PerspectiveRotate | 0.0 |
PerspectiveScale | 100 |
PerspectiveUpright | 0 |
PerspectiveVertical | 0 |
PostCropVignetteAmount | 0 |
ProcessVersion | 6.7 |
ProfileDescription | Adobe RGB (1998) |
Rating | 0 |
RawFileName | _BDS3389.NEF |
RedHue | 0 |
RedSaturation | 0 |
Rights | Zoltan ToT |
Saturation (1) | -17 |
Saturation | Normal |
SaturationAdjustmentAqua | 0 |
SaturationAdjustmentBlue | 0 |
SaturationAdjustmentGreen | 0 |
SaturationAdjustmentMagenta | 0 |
SaturationAdjustmentOrange | 0 |
SaturationAdjustmentPurple | 0 |
SaturationAdjustmentRed | 0 |
SaturationAdjustmentYellow | 0 |
ScaleFactor35efl | 1.0 |
SceneCaptureType | Standard |
SceneType | Directly photographed |
SensingMethod | One-chip color area |
SensitivityType | Recommended Exposure Index |
SerialNumber | 6015639 |
Shadows2012 | +20 |
ShadowTint | 0 |
SharpenDetail | 1 |
SharpenEdgeMasking | 75 |
SharpenRadius | +0.5 |
Sharpness (1) | 128 |
Sharpness | Normal |
ShutterSpeed | 6 |
ShutterSpeedValue | 6 |
Software | Adobe Photoshop CC (Macintosh) |
SplitToningBalance | 0 |
SplitToningHighlightHue | 0 |
SplitToningHighlightSaturation | 0 |
SplitToningShadowHue | 0 |
SplitToningShadowSaturation | 0 |
SubjectDistanceRange | Unknown |
Tint | +28 |
ToneCurveName2012 | Linear |
ToneCurvePV2012 | 0, 0, 255, 255 |
ToneCurvePV2012Blue | 0, 0, 255, 255 |
ToneCurvePV2012Green | 0, 0, 255, 255 |
ToneCurvePV2012Red | 0, 0, 255, 255 |
URL_List | |
Version | 8.2 |
Vibrance | +21 |
VignetteAmount | +74 |
VignetteMidpoint | 23 |
WhiteBalance (1) | Custom |
WhiteBalance | Manual |
Whites2012 | -48 |